BEGIN:VCALENDAR
VERSION:2.0
PRODID:-//LiveLikeLara Foundation - ECPv6.15.20//NONSGML v1.0//EN
CALSCALE:GREGORIAN
METHOD:PUBLISH
X-WR-CALNAME:LiveLikeLara Foundation
X-ORIGINAL-URL:https://livelikelara.org
X-WR-CALDESC:Events for LiveLikeLara Foundation
REFRESH-INTERVAL;VALUE=DURATION:PT1H
X-Robots-Tag:noindex
X-PUBLISHED-TTL:PT1H
BEGIN:VTIMEZONE
TZID:UTC
BEGIN:STANDARD
TZOFFSETFROM:+0000
TZOFFSETTO:+0000
TZNAME:UTC
DTSTART:20250101T000000
END:STANDARD
END:VTIMEZONE
BEGIN:VEVENT
DTSTART;VALUE=DATE:20260403
DTEND;VALUE=DATE:20260501
DTSTAMP:20260423T134814
CREATED:20260410T161847Z
LAST-MODIFIED:20260411T001048Z
UID:5269-1775174400-1777593599@livelikelara.org
SUMMARY:Lara's 40th Birthday Fundraiser
DESCRIPTION:Carry Her Kindness: $40 for Lara’s 40th \nLara had a gift. She could walk into a room and make everyone in it feel like they belonged there – seen. Loved\, and a little more alive. She was joy in motion\, warmth without condition. And she loved her shoes. \nThis year\, in honor of what would have been Lara’s 40th birthday on April 11\, the LiveLikeLara Foundation is inviting our community to do what Lara did best: show up for someone who needs it. \nFor $40 – one dollar for every year of a life that changed the people around her – you can place a brand-new pair of shoes in the hands of a young person staying in a youth shelter in St. Augustine\, Florida; Portland\, Maine; Spokane\, Washington; and Indianapolis\, Indiana. These are young people navigating homelessness and crisis\, often with little more than the clothes on their backs. For many of them\, a new pair of shoes will be something they have never had before. \nBut this isn’t just about shoes. It’s about what shoes carry: warmth on a cold morning\, confidence on a hard day\, the quiet but powerful feeling of being cared for by someone who didn’t have to. That is exactly how Lara loved people – and it is exactly the spirit this campaign is built to carry forward. \nEvery $40 gift is an act of presence. Together\, we can transform Lara’s milestone birthday into a movement of comfort\, dignity and hope – reaching young people across four cities who deserve to know that someone sees them. \nDonate today. Carry her kindness forward. www.livelikelara.org or you can mail a check to 1452 Atlantic Breeze Way\, Ponte Vedra Beach\, FL. 32082 \nAll donations between April 3 and April 30\, 2026 will go toward Lara’s birthday gift to the youth.
URL:https://livelikelara.org/event/laras-40th-birthday-fundraiser/
ATTACH;FMTTYPE=image/jpeg:https://livelikelara.org/wp-content/uploads/2021/05/cropped-Lara-Graduation-and-Victoria-6-14-08-139-1024x530-1.jpg
END:VEVENT
END:VCALENDAR